BEGIN:VCALENDAR
METHOD:PUBLISH
VERSION:2.0
PRODID:-//hacksw/handcal//NONSGML v1.0//EN
BEGIN:VEVENT
DTSTAMP:20260425T162000
DTSTART:20260425T162000
DTEND:20260425T165000
SUMMARY:Inspection
LOCATION:5/454-458 Liverpool Road Strathfield South NSW 2136
DESCRIPTION:
UID:fe079be6-7598-4915-9cd3-4cb4bd22b813@enlivenai.com.au
END:VEVENT
END:VCALENDAR
