BEGIN:VCALENDAR
METHOD:PUBLISH
VERSION:2.0
PRODID:-//hacksw/handcal//NONSGML v1.0//EN
BEGIN:VEVENT
DTSTAMP:20260429T170000
DTSTART:20260429T170000
DTEND:20260429T173000
SUMMARY:Inspection
LOCATION:42 O'Connor Street Haberfield NSW 2045
DESCRIPTION:
UID:48029332-7a0d-419a-a5dc-4d76b63c6872@enlivenai.com.au
END:VEVENT
END:VCALENDAR
