BEGIN:VCALENDAR
METHOD:PUBLISH
VERSION:2.0
PRODID:-//hacksw/handcal//NONSGML v1.0//EN
BEGIN:VEVENT
DTSTAMP:20260426T093000
DTSTART:20260426T093000
DTEND:20260426T100000
SUMMARY:Inspection
LOCATION:6 Yowani Street Robina QLD 4226
DESCRIPTION:
UID:7881d33a-136a-4b6e-97c7-23910187c2a7@enlivenai.com.au
END:VEVENT
END:VCALENDAR
