BEGIN:VCALENDAR
METHOD:PUBLISH
VERSION:2.0
PRODID:-//hacksw/handcal//NONSGML v1.0//EN
BEGIN:VEVENT
DTSTAMP:20260423T163000
DTSTART:20260423T163000
DTEND:20260423T170000
SUMMARY:Inspection
LOCATION:6 Yowani Street Robina QLD 4226
DESCRIPTION:
UID:ac08023f-ee10-431a-8c28-a363c02a1ece@enlivenai.com.au
END:VEVENT
END:VCALENDAR
