BEGIN:VCALENDAR
METHOD:PUBLISH
VERSION:2.0
PRODID:-//hacksw/handcal//NONSGML v1.0//EN
BEGIN:VEVENT
DTSTAMP:20260502T104500
DTSTART:20260502T104500
DTEND:20260502T110000
SUMMARY:Inspection
LOCATION:315/88 Cambridge Street Collingwood VIC 3066
DESCRIPTION:
UID:1124a07d-6f2b-4800-a78b-0796de719fc2@enlivenai.com.au
END:VEVENT
END:VCALENDAR
