BEGIN:VCALENDAR
METHOD:PUBLISH
VERSION:2.0
PRODID:-//hacksw/handcal//NONSGML v1.0//EN
BEGIN:VEVENT
DTSTAMP:20260429T103000
DTSTART:20260429T103000
DTEND:20260429T104500
SUMMARY:Inspection
LOCATION:315/88 Cambridge Street Collingwood VIC 3066
DESCRIPTION:
UID:f5cad8e8-396c-4418-ba5a-a2f45fd3404d@enlivenai.com.au
END:VEVENT
END:VCALENDAR
