BEGIN:VCALENDAR
METHOD:PUBLISH
VERSION:2.0
PRODID:-//hacksw/handcal//NONSGML v1.0//EN
BEGIN:VEVENT
DTSTAMP:20260422T190000
DTSTART:20260422T190000
DTEND:20260422T193000
SUMMARY:Inspection
LOCATION:24 Carrington Avenue Strathfield NSW 2135
DESCRIPTION:
UID:d3661914-06da-407c-8318-385e3d42d725@enlivenai.com.au
END:VEVENT
END:VCALENDAR
