BEGIN:VCALENDAR
METHOD:PUBLISH
VERSION:2.0
PRODID:-//hacksw/handcal//NONSGML v1.0//EN
BEGIN:VEVENT
DTSTAMP:20260422T125500
DTSTART:20260422T125500
DTEND:20260422T131000
SUMMARY:Inspection
LOCATION:265/62 Constitution Avenue Parkes ACT 2600
DESCRIPTION:
UID:89d1ae4c-2ead-4b24-ad4b-75fbe2ef2a92@enlivenai.com.au
END:VEVENT
END:VCALENDAR
