BEGIN:VCALENDAR
METHOD:PUBLISH
VERSION:2.0
PRODID:-//hacksw/handcal//NONSGML v1.0//EN
BEGIN:VEVENT
DTSTAMP:20260421T114500
DTSTART:20260421T114500
DTEND:20260421T120000
SUMMARY:Inspection
LOCATION:41/21 Bay Drive Meadowbank NSW 2114
DESCRIPTION:
UID:757048da-b6e3-4c07-9191-e6d3c75abc15@enlivenai.com.au
END:VEVENT
END:VCALENDAR
