BEGIN:VCALENDAR
METHOD:PUBLISH
VERSION:2.0
PRODID:-//hacksw/handcal//NONSGML v1.0//EN
BEGIN:VEVENT
DTSTAMP:20260428T040000
DTSTART:20260428T040000
DTEND:20260428T041500
SUMMARY:Inspection
LOCATION:8 Pippin Court Harcourt VIC 3453
DESCRIPTION:
UID:227682ab-2bde-4331-b270-52070511cfba@enlivenai.com.au
END:VEVENT
END:VCALENDAR
