BEGIN:VCALENDAR
METHOD:PUBLISH
VERSION:2.0
PRODID:-//hacksw/handcal//NONSGML v1.0//EN
BEGIN:VEVENT
DTSTAMP:20260426T140000
DTSTART:20260426T140000
DTEND:20260426T143000
SUMMARY:Inspection
LOCATION:21 Fairy Bower Road Manly NSW 2095
DESCRIPTION:
UID:e5ecb628-8caf-4c7a-948c-5d8a6d0841a9@enlivenai.com.au
END:VEVENT
END:VCALENDAR
