BEGIN:VCALENDAR
METHOD:PUBLISH
VERSION:2.0
PRODID:-//hacksw/handcal//NONSGML v1.0//EN
BEGIN:VEVENT
DTSTAMP:20260422T171000
DTSTART:20260422T171000
DTEND:20260422T173000
SUMMARY:Inspection
LOCATION:11/108-110 Boyce  Road Maroubra NSW 2035
DESCRIPTION:
UID:4f7aeb12-b69e-4c18-b107-89fe677aafd0@enlivenai.com.au
END:VEVENT
END:VCALENDAR
