BEGIN:VCALENDAR
METHOD:PUBLISH
VERSION:2.0
PRODID:-//hacksw/handcal//NONSGML v1.0//EN
BEGIN:VEVENT
DTSTAMP:20260422T160000
DTSTART:20260422T160000
DTEND:20260422T163000
SUMMARY:Inspection
LOCATION:421/49-63 Williams Esplanade Palm Cove QLD 4879
DESCRIPTION:
UID:c1b70253-34cf-422e-9c6b-18b96403d66d@enlivenai.com.au
END:VEVENT
END:VCALENDAR
