BEGIN:VCALENDAR
METHOD:PUBLISH
VERSION:2.0
PRODID:-//hacksw/handcal//NONSGML v1.0//EN
BEGIN:VEVENT
DTSTAMP:20260422T173000
DTSTART:20260422T173000
DTEND:20260422T180000
SUMMARY:Inspection
LOCATION:21/1-11 Donald Street Carlingford NSW 2118
DESCRIPTION:
UID:ea2b8f27-9547-4ece-94bb-108b522813ce@enlivenai.com.au
END:VEVENT
END:VCALENDAR
