BEGIN:VCALENDAR
METHOD:PUBLISH
VERSION:2.0
PRODID:-//hacksw/handcal//NONSGML v1.0//EN
BEGIN:VEVENT
DTSTAMP:20260422T161500
DTSTART:20260422T161500
DTEND:20260422T163000
SUMMARY:Inspection
LOCATION:6/313 Oxford Street Leederville WA 6007
DESCRIPTION:
UID:da314640-f10c-4841-965e-36e29d4e59b2@enlivenai.com.au
END:VEVENT
END:VCALENDAR
