BEGIN:VCALENDAR
METHOD:PUBLISH
VERSION:2.0
PRODID:-//hacksw/handcal//NONSGML v1.0//EN
BEGIN:VEVENT
DTSTAMP:20260425T151500
DTSTART:20260425T151500
DTEND:20260425T154500
SUMMARY:Inspection
LOCATION:2A Rosella Road Parkdale VIC 3195
DESCRIPTION:
UID:93d124eb-0bba-4e0c-8ce5-3d695287b537@enlivenai.com.au
END:VEVENT
END:VCALENDAR
