BEGIN:VCALENDAR
METHOD:PUBLISH
VERSION:2.0
PRODID:-//hacksw/handcal//NONSGML v1.0//EN
BEGIN:VEVENT
DTSTAMP:20260424T170000
DTSTART:20260424T170000
DTEND:20260424T173000
SUMMARY:Inspection
LOCATION:12/1 Amity Avenue Maroochydore QLD 4558
DESCRIPTION:
UID:cd85971c-6aa5-4219-a158-ad4b9db0e82a@enlivenai.com.au
END:VEVENT
END:VCALENDAR
