BEGIN:VCALENDAR
METHOD:PUBLISH
VERSION:2.0
PRODID:-//hacksw/handcal//NONSGML v1.0//EN
BEGIN:VEVENT
DTSTAMP:20260502T150000
DTSTART:20260502T150000
DTEND:20260502T153000
SUMMARY:Inspection
LOCATION:506/57 Stables Circuit Doncaster VIC 3108
DESCRIPTION:
UID:9f043cfe-c6a1-4488-abd5-d7e7f19a4b53@enlivenai.com.au
END:VEVENT
END:VCALENDAR
