BEGIN:VCALENDAR
METHOD:PUBLISH
VERSION:2.0
PRODID:-//hacksw/handcal//NONSGML v1.0//EN
BEGIN:VEVENT
DTSTAMP:20260426T141500
DTSTART:20260426T141500
DTEND:20260426T144500
SUMMARY:Inspection
LOCATION:103/342 Whitehorse Road Balwyn VIC 3103
DESCRIPTION:
UID:882a5592-e6bc-4f59-b5b7-66b702dc0262@enlivenai.com.au
END:VEVENT
END:VCALENDAR
