BEGIN:VCALENDAR
METHOD:PUBLISH
VERSION:2.0
PRODID:-//hacksw/handcal//NONSGML v1.0//EN
BEGIN:VEVENT
DTSTAMP:20260422T170000
DTSTART:20260422T170000
DTEND:20260422T173000
SUMMARY:Inspection
LOCATION:8 Ridgewood Road Algester QLD 4115
DESCRIPTION:
UID:7e44c77d-2f14-44f8-a538-f8a8ad444f5b@enlivenai.com.au
END:VEVENT
END:VCALENDAR
