BEGIN:VCALENDAR
METHOD:PUBLISH
VERSION:2.0
PRODID:-//hacksw/handcal//NONSGML v1.0//EN
BEGIN:VEVENT
DTSTAMP:20260430T173000
DTSTART:20260430T173000
DTEND:20260430T180000
SUMMARY:Inspection
LOCATION:107/221-223 Darlinghurst Road Darlinghurst NSW 2010
DESCRIPTION:
UID:8ec30667-6478-42ec-9d6a-2c1a88081463@enlivenai.com.au
END:VEVENT
END:VCALENDAR
