BEGIN:VCALENDAR
METHOD:PUBLISH
VERSION:2.0
PRODID:-//hacksw/handcal//NONSGML v1.0//EN
BEGIN:VEVENT
DTSTAMP:20260423T173000
DTSTART:20260423T173000
DTEND:20260423T180000
SUMMARY:Inspection
LOCATION:107/221-223 Darlinghurst Road Darlinghurst NSW 2010
DESCRIPTION:
UID:5fc35eec-8a17-497c-828a-bd0f58ce518f@enlivenai.com.au
END:VEVENT
END:VCALENDAR
