BEGIN:VCALENDAR
METHOD:PUBLISH
VERSION:2.0
PRODID:-//hacksw/handcal//NONSGML v1.0//EN
BEGIN:VEVENT
DTSTAMP:20260430T122500
DTSTART:20260430T122500
DTEND:20260430T124000
SUMMARY:Inspection
LOCATION:137/8 Jardine  Street Kingston ACT 2604
DESCRIPTION:
UID:fd1cc82a-11d6-46e3-a039-ed28c75f7195@enlivenai.com.au
END:VEVENT
END:VCALENDAR
