BEGIN:VCALENDAR
METHOD:PUBLISH
VERSION:2.0
PRODID:-//hacksw/handcal//NONSGML v1.0//EN
BEGIN:VEVENT
DTSTAMP:20260428T180000
DTSTART:20260428T180000
DTEND:20260428T183000
SUMMARY:Inspection
LOCATION:11 Arthur Street Strathfield NSW 2135
DESCRIPTION:
UID:e8ff3537-b3a2-4623-9913-ff8f247f1e8f@enlivenai.com.au
END:VEVENT
END:VCALENDAR
