BEGIN:VCALENDAR
METHOD:PUBLISH
VERSION:2.0
PRODID:-//hacksw/handcal//NONSGML v1.0//EN
BEGIN:VEVENT
DTSTAMP:20260523T091500
DTSTART:20260523T091500
DTEND:20260523T094500
SUMMARY:Inspection
LOCATION:11 Garling Street Lane Cove NSW 2066
DESCRIPTION:
UID:a386510d-0f87-4031-9b75-8f97aff87356@enlivenai.com.au
END:VEVENT
END:VCALENDAR
