BEGIN:VCALENDAR
METHOD:PUBLISH
VERSION:2.0
PRODID:-//hacksw/handcal//NONSGML v1.0//EN
BEGIN:VEVENT
DTSTAMP:20260426T090000
DTSTART:20260426T090000
DTEND:20260426T093000
SUMMARY:Inspection
LOCATION:17 Moorland  Street Moorooka QLD 4105
DESCRIPTION:
UID:342b0b37-9d77-4585-be99-d739de33d469@enlivenai.com.au
END:VEVENT
END:VCALENDAR
