BEGIN:VCALENDAR
METHOD:PUBLISH
VERSION:2.0
PRODID:-//hacksw/handcal//NONSGML v1.0//EN
BEGIN:VEVENT
DTSTAMP:20260422T124500
DTSTART:20260422T124500
DTEND:20260422T130000
SUMMARY:Inspection
LOCATION:39/2A Campbell Parade Manly Vale NSW 2093
DESCRIPTION:
UID:c6ae9119-5cf3-4fe6-8bce-fdb1e06b3b42@enlivenai.com.au
END:VEVENT
END:VCALENDAR
