BEGIN:VCALENDAR
METHOD:PUBLISH
VERSION:2.0
PRODID:-//hacksw/handcal//NONSGML v1.0//EN
BEGIN:VEVENT
DTSTAMP:20260422T114500
DTSTART:20260422T114500
DTEND:20260422T120000
SUMMARY:Inspection
LOCATION:301/621-635 Princes Highway Blakehurst NSW 2221
DESCRIPTION:
UID:196424d6-8167-41c1-ad45-91a159857010@enlivenai.com.au
END:VEVENT
END:VCALENDAR
