BEGIN:VCALENDAR
METHOD:PUBLISH
VERSION:2.0
PRODID:-//hacksw/handcal//NONSGML v1.0//EN
BEGIN:VEVENT
DTSTAMP:20260429T171500
DTSTART:20260429T171500
DTEND:20260429T173000
SUMMARY:Inspection
LOCATION:8/26-34 Little Cardigan Street Carlton VIC 3053
DESCRIPTION:
UID:f1df866b-1269-471e-80c1-d42b1adac609@enlivenai.com.au
END:VEVENT
END:VCALENDAR
