BEGIN:VCALENDAR
METHOD:PUBLISH
VERSION:2.0
PRODID:-//hacksw/handcal//NONSGML v1.0//EN
BEGIN:VEVENT
DTSTAMP:20260424T123500
DTSTART:20260424T123500
DTEND:20260424T125000
SUMMARY:Inspection
LOCATION:8/26-34 Little Cardigan Street Carlton VIC 3053
DESCRIPTION:
UID:4a93b873-5b2b-4b7c-a9f0-ebc48c1328d5@enlivenai.com.au
END:VEVENT
END:VCALENDAR
