BEGIN:VCALENDAR
METHOD:PUBLISH
VERSION:2.0
PRODID:-//hacksw/handcal//NONSGML v1.0//EN
BEGIN:VEVENT
DTSTAMP:20260424T100000
DTSTART:20260424T100000
DTEND:20260424T103000
SUMMARY:Inspection
LOCATION:16 Martha Jane Avenue Killcare NSW 2257
DESCRIPTION:
UID:4e1b1baa-6fe9-486c-9cbf-96093bc824ed@enlivenai.com.au
END:VEVENT
END:VCALENDAR
