BEGIN:VCALENDAR
METHOD:PUBLISH
VERSION:2.0
PRODID:-//hacksw/handcal//NONSGML v1.0//EN
BEGIN:VEVENT
DTSTAMP:20260421T104500
DTSTART:20260421T104500
DTEND:20260421T110000
SUMMARY:Inspection
LOCATION:402/1A Crandon Road Epping NSW 2121
DESCRIPTION:
UID:49eb3245-ac2e-4795-96de-a9fcfd1224ec@enlivenai.com.au
END:VEVENT
END:VCALENDAR
