BEGIN:VCALENDAR
METHOD:PUBLISH
VERSION:2.0
PRODID:-//hacksw/handcal//NONSGML v1.0//EN
BEGIN:VEVENT
DTSTAMP:20260426T113000
DTSTART:20260426T113000
DTEND:20260426T120000
SUMMARY:Inspection
LOCATION:7 Anthea Place Rochedale South QLD 4123
DESCRIPTION:
UID:c982011e-96d0-4f9d-b8ab-ae7d5dc99ccc@enlivenai.com.au
END:VEVENT
END:VCALENDAR
