BEGIN:VCALENDAR
METHOD:PUBLISH
VERSION:2.0
PRODID:-//hacksw/handcal//NONSGML v1.0//EN
BEGIN:VEVENT
DTSTAMP:20260425T141000
DTSTART:20260425T141000
DTEND:20260425T143000
SUMMARY:Inspection
LOCATION:12/55 Barkly Street St Kilda VIC 3182
DESCRIPTION:
UID:fa1a3090-d4e2-46ad-9564-1a4406eb4f0e@enlivenai.com.au
END:VEVENT
END:VCALENDAR
