BEGIN:VCALENDAR
METHOD:PUBLISH
VERSION:2.0
PRODID:-//hacksw/handcal//NONSGML v1.0//EN
BEGIN:VEVENT
DTSTAMP:20260425T130500
DTSTART:20260425T130500
DTEND:20260425T133000
SUMMARY:Inspection
LOCATION:7 Ballanoma Green Epping VIC 3076
DESCRIPTION:
UID:8f39e805-d093-4aa1-be3f-50331abacf14@enlivenai.com.au
END:VEVENT
END:VCALENDAR
