BEGIN:VCALENDAR
METHOD:PUBLISH
VERSION:2.0
PRODID:-//hacksw/handcal//NONSGML v1.0//EN
BEGIN:VEVENT
DTSTAMP:20260426T111500
DTSTART:20260426T111500
DTEND:20260426T114500
SUMMARY:Inspection
LOCATION:G07/527 Orrong Road Armadale VIC 3143
DESCRIPTION:
UID:4026d59c-eff5-412a-8b00-7f4114c5bac1@enlivenai.com.au
END:VEVENT
END:VCALENDAR
