BEGIN:VCALENDAR
METHOD:PUBLISH
VERSION:2.0
PRODID:-//hacksw/handcal//NONSGML v1.0//EN
BEGIN:VEVENT
DTSTAMP:20260507T113000
DTSTART:20260507T113000
DTEND:20260507T120000
SUMMARY:Inspection
LOCATION:58 Mansfield Street Rozelle NSW 2039
DESCRIPTION:
UID:bc0d2986-18ae-4e8c-86fb-e78c6c1cc5f3@enlivenai.com.au
END:VEVENT
END:VCALENDAR
