BEGIN:VCALENDAR
METHOD:PUBLISH
VERSION:2.0
PRODID:-//hacksw/handcal//NONSGML v1.0//EN
BEGIN:VEVENT
DTSTAMP:20260430T113000
DTSTART:20260430T113000
DTEND:20260430T120000
SUMMARY:Inspection
LOCATION:58 Mansfield Street Rozelle NSW 2039
DESCRIPTION:
UID:216d4782-7307-4ae0-9dd7-f78d7a26820e@enlivenai.com.au
END:VEVENT
END:VCALENDAR
