BEGIN:VCALENDAR
METHOD:PUBLISH
VERSION:2.0
PRODID:-//hacksw/handcal//NONSGML v1.0//EN
BEGIN:VEVENT
DTSTAMP:20260524T120000
DTSTART:20260524T120000
DTEND:20260524T160000
SUMMARY:Inspection
LOCATION:1 Charlotte  Place Bungendore NSW 2621
DESCRIPTION:
UID:28cb4ef0-b0a9-4ca6-832e-d9e139366440@enlivenai.com.au
END:VEVENT
END:VCALENDAR
