BEGIN:VCALENDAR
METHOD:PUBLISH
VERSION:2.0
PRODID:-//hacksw/handcal//NONSGML v1.0//EN
BEGIN:VEVENT
DTSTAMP:20260517T120000
DTSTART:20260517T120000
DTEND:20260517T160000
SUMMARY:Inspection
LOCATION:1 Charlotte  Place Bungendore NSW 2621
DESCRIPTION:
UID:ad01c94c-2e03-42c2-a10a-56a5920d524b@enlivenai.com.au
END:VEVENT
END:VCALENDAR
