BEGIN:VCALENDAR
METHOD:PUBLISH
VERSION:2.0
PRODID:-//hacksw/handcal//NONSGML v1.0//EN
BEGIN:VEVENT
DTSTAMP:20260510T120000
DTSTART:20260510T120000
DTEND:20260510T160000
SUMMARY:Inspection
LOCATION:1 Charlotte  Place Bungendore NSW 2621
DESCRIPTION:
UID:bf1c24d7-57d2-410d-8a4c-4fa8671c1e0f@enlivenai.com.au
END:VEVENT
END:VCALENDAR
