BEGIN:VCALENDAR
METHOD:PUBLISH
VERSION:2.0
PRODID:-//hacksw/handcal//NONSGML v1.0//EN
BEGIN:VEVENT
DTSTAMP:20260503T120000
DTSTART:20260503T120000
DTEND:20260503T160000
SUMMARY:Inspection
LOCATION:1 Charlotte  Place Bungendore NSW 2621
DESCRIPTION:
UID:dbaf8e7c-c96a-4368-9b58-7c5f8d0d44ba@enlivenai.com.au
END:VEVENT
END:VCALENDAR
