BEGIN:VCALENDAR
METHOD:PUBLISH
VERSION:2.0
PRODID:-//hacksw/handcal//NONSGML v1.0//EN
BEGIN:VEVENT
DTSTAMP:20260502T110000
DTSTART:20260502T110000
DTEND:20260502T114500
SUMMARY:Inspection
LOCATION:76-80 Sturt Street Adelaide SA 5000
DESCRIPTION:
UID:f6e4041e-7aaa-4646-8fe1-aeae3ff0ccdc@enlivenai.com.au
END:VEVENT
END:VCALENDAR
