BEGIN:VCALENDAR
METHOD:PUBLISH
VERSION:2.0
PRODID:-//hacksw/handcal//NONSGML v1.0//EN
BEGIN:VEVENT
DTSTAMP:20260424T130000
DTSTART:20260424T130000
DTEND:20260424T133000
SUMMARY:Inspection
LOCATION:58 Grandview Crescent Killcare NSW 2257
DESCRIPTION:
UID:7f4527cb-a8a6-429a-a505-358a304d8efb@enlivenai.com.au
END:VEVENT
END:VCALENDAR
