BEGIN:VCALENDAR
METHOD:PUBLISH
VERSION:2.0
PRODID:-//hacksw/handcal//NONSGML v1.0//EN
BEGIN:VEVENT
DTSTAMP:20260423T152000
DTSTART:20260423T152000
DTEND:20260423T153000
SUMMARY:Inspection
LOCATION:3 Bilbul Avenue Rosebud VIC 3939
DESCRIPTION:
UID:a3318677-e66a-4a14-bf58-a50be7b7325d@enlivenai.com.au
END:VEVENT
END:VCALENDAR
