BEGIN:VCALENDAR
METHOD:PUBLISH
VERSION:2.0
PRODID:-//hacksw/handcal//NONSGML v1.0//EN
BEGIN:VEVENT
DTSTAMP:20260425T144500
DTSTART:20260425T144500
DTEND:20260425T151500
SUMMARY:Inspection
LOCATION:2/17 Collocott Street Mordialloc VIC 3195
DESCRIPTION:
UID:e5118199-cee5-4453-97ce-1dc7d622a304@enlivenai.com.au
END:VEVENT
END:VCALENDAR
