BEGIN:VCALENDAR
METHOD:PUBLISH
VERSION:2.0
PRODID:-//hacksw/handcal//NONSGML v1.0//EN
BEGIN:VEVENT
DTSTAMP:20260429T165000
DTSTART:20260429T165000
DTEND:20260429T170000
SUMMARY:Inspection
LOCATION:33 Goolgowie Street Rosebud VIC 3939
DESCRIPTION:
UID:e710cd3a-b5b2-4fa0-aacc-4235747f1877@enlivenai.com.au
END:VEVENT
END:VCALENDAR
