BEGIN:VCALENDAR
METHOD:PUBLISH
VERSION:2.0
PRODID:-//hacksw/handcal//NONSGML v1.0//EN
BEGIN:VEVENT
DTSTAMP:20260425T131000
DTSTART:20260425T131000
DTEND:20260425T133000
SUMMARY:Inspection
LOCATION:18 Prohasky Street Port Melbourne VIC 3207
DESCRIPTION:
UID:13fbdbad-88ab-4f86-b2b0-d6620f5d3d96@enlivenai.com.au
END:VEVENT
END:VCALENDAR
