BEGIN:VCALENDAR
METHOD:PUBLISH
VERSION:2.0
PRODID:-//hacksw/handcal//NONSGML v1.0//EN
BEGIN:VEVENT
DTSTAMP:20260507T170000
DTSTART:20260507T170000
DTEND:20260507T173000
SUMMARY:Inspection
LOCATION:11 Mulguthrie Court Hallam VIC 3803
DESCRIPTION:
UID:751b3a46-4bde-4290-88cb-416299520e00@enlivenai.com.au
END:VEVENT
END:VCALENDAR
