BEGIN:VCALENDAR
METHOD:PUBLISH
VERSION:2.0
PRODID:-//hacksw/handcal//NONSGML v1.0//EN
BEGIN:VEVENT
DTSTAMP:20260502T120000
DTSTART:20260502T120000
DTEND:20260502T123000
SUMMARY:Inspection
LOCATION:11 Mulguthrie Court Hallam VIC 3803
DESCRIPTION:
UID:b3241da8-70e0-41b6-a9d3-4872b7c13746@enlivenai.com.au
END:VEVENT
END:VCALENDAR
